Workbook
Name ALLRT23C: ' Provider Specific Rates'!$A$6:$F$6
Name ALLRT23CSMHRF_jeh: #REF!

Sheet Supportive Living Program
A1: ILLINOIS DEPARTMENT OF HEALTHCARE AND FAMILY SERVICES
A2: BUREAU OF RATE DEVELOPMENT AND ANALYSIS
A3: MEDICAID RATE LIST FOR SLF AS OF 07-01-2026
A5: Service/Service Description | B5: Geographic Area for Applicable Rate | C5: Service Unit Type | D5: Unit Rate | E5: Fee Schedule Effective Date
A6: Regular SLP | B6: Northwest | C6: Per Diem | D6: 148.84 | E6: 46204
A7: Regular SLP | B7: Central | C7: Per Diem | D7: 149.63 | E7: 46204
A8: Regular SLP | B8: West Central | C8: Per Diem | D8: 141.55 | E8: 46204
A9: Regular SLP | B9: South | C9: Per Diem | D9: 133.74 | E9: 46204
A10: Regular SLP | B10: Chicago | C10: Per Diem | D10: 154.03 | E10: 46204
A11: Regular SLP | B11: South Suburb | C11: Per Diem | D11: 148.86 | E11: 46204
A12: Regular SLP | B12: St. Louis | C12: Per Diem | D12: 145.05 | E12: 46204
A13: Dementia SLP | B13: Northwest | C13: Per Diem | D13: 218.8 | E13: 46204
A14: Dementia SLP | B14: Central | C14: Per Diem | D14: 220 | E14: 46204
A15: Dementia SLP | B15: West Central | C15: Per Diem | D15: 207.88 | E15: 46204
A16: Dementia SLP | B16: South | C16: Per Diem | D16: 196.15 | E16: 46204
A17: Dementia SLP | B17: Chicago | C17: Per Diem | D17: 226.59 | E17: 46204
... A19: Dementia SLP | B19: St. Louis | C19: Per Diem | D19: 213.12 | E19: 46204
A21: *Includes $6.15 due to the suspension of SNAP benefits and 2.75 for Quality Add-on
A23: The following facilities have the $2.75 add on suspended due to QM Reporting Templates and verification documents not being submitted;
A24: 1 | B24: Acorn Estates
A25: 2 | B25: Vistas of Lincoln Park
A26: 3 | B26: Joshua Arms
A27: 4 | B27: Fransiscan Court

Sheet  Provider Specific Rates
A1: ILLINOIS DEPARTMENT OF HEALTHCARE AND FAMILY SERVICES
A2: BUREAU OF RATE DEVELOPMENT AND ANALYSIS
A3: MEDICAID RATE LIST FOR SUPPORTIVE LIVING FACILITIES AS OF 07-01-2026
A5: *Therapeutically beneficial leave of absence days payable at 100% of facility daily for up to 30 days per fiscal year. Days exceeding 30 per fiscal year are non-payable. | H5: Leave of Absence or Bed Reserve Days
A6: Facility Name | B6: Service Description | C6: Geographic Area for Applicable Rate | D6: City | E6: Total Rate | F6: Effective Rate | H6: Days 1 - 30* | I6: 31 Days or More*
A7: Acorn Estates | B7: Regular SLP | C7: South | D7: Mount Carmel | E7: ='Supportive Living Program'!$D$9 -> 133.74 | F7: ='Supportive Living Program'!$E$9 -> 46204 | H7: =E7 -> 133.74 | I7: 0
A8: Alden Gardens of Bloomingdale | B8: Regular SLP | C8: Chicago | D8: Bloomingdale | E8: ='Supportive Living Program'!$D$10 -> 154.03 | F8: ='Supportive Living Program'!$E$10 -> 46204 | H8: =E8 -> 154.03 | I8: 0
A9: Alden Gardens of Waterford | B9: Regular SLP | C9: Chicago | D9: Aurora | E9: ='Supportive Living Program'!$D$10 -> 154.03 | F9: ='Supportive Living Program'!$E$10 -> 46204 | H9: =E9 -> 154.03 | I9: 0
A10: Allure Active Living of Zion | B10: Regular SLP | C10: Chicago | D10: Zion | E10: ='Supportive Living Program'!$D$10 -> 154.03 | F10: ='Supportive Living Program'!$E$10 -> 46204 | H10: =E10 -> 154.03 | I10: 0
A11: Allure Active Living of Zion | B11: Dementia SLP | C11: Chicago | D11: Zion | E11: ='Supportive Living Program'!$D$17 -> 226.59 | F11: ='Supportive Living Program'!$E$17 -> 46204 | H11: =E11 -> 226.59 | I11: 0
A12: Andersonville Supportive Living | B12: Regular SLP | C12: Chicago | D12: Chicago | E12: ='Supportive Living Program'!$D$10 -> 154.03 | F12: ='Supportive Living Program'!$E$10 -> 46204 | H12: =E12 -> 154.03 | I12: 0
A13: Asbury Court Retirement Community | B13: Regular SLP | C13: Chicago | D13: Des Plaines | E13: ='Supportive Living Program'!$D$10 -> 154.03 | F13: ='Supportive Living Program'!$E$10 -> 46204 | H13: =E13 -> 154.03 | I13: 0
A14: Asbury Court Retirement Community | B14: Dementia SLP | C14: Chicago | D14: Des Plaines | E14: ='Supportive Living Program'!$D$17 -> 226.59 | F14: ='Supportive Living Program'!$E$17 -> 46204 | H14: =E14 -> 226.59 | I14: 0
A15: Asbury Gardens Supportive Living Facility | B15: Regular SLP | C15: Chicago | D15: North Aurora | E15: ='Supportive Living Program'!$D$10 -> 154.03 | F15: ='Supportive Living Program'!$E$10 -> 46204 | H15: =E15 -> 154.03 | I15: 0
A16: Asbury Gardens Supportive Living Facility | B16: Dementia SLP | C16: Chicago | D16: North Aurora | E16: ='Supportive Living Program'!$D$17 -> 226.59 | F16: ='Supportive Living Program'!$E$17 -> 46204 | H16: =E16 -> 226.59 | I16: 0
A17: Autumn Ridge Supportive Living | B17: Regular SLP | C17: South | D17: Vienna | E17: ='Supportive Living Program'!$D$9 -> 133.74 | F17: ='Supportive Living Program'!$E$9 -> 46204 | H17: =E17 -> 133.74 | I17: 0
A18: Barton Senior Residence Chicago | B18: Regular SLP | C18: Chicago | D18: Chicago | E18: ='Supportive Living Program'!$D$10 -> 154.03 | F18: ='Supportive Living Program'!$E$10 -> 46204 | H18: =E18 -> 154.03 | I18: 0
A19: Barton Senior Residences Zion | B19: Regular SLP | C19: Chicago | D19: Zion | E19: ='Supportive Living Program'!$D$10 -> 154.03 | F19: ='Supportive Living Program'!$E$10 -> 46204 | H19: =E19 -> 154.03 | I19: 0
A20: Beth Anne Place | B20: Regular SLP | C20: Chicago | D20: Chicago | E20: ='Supportive Living Program'!$D$10 -> 154.03 | F20: ='Supportive Living Program'!$E$10 -> 46204 | H20: =E20 -> 154.03 | I20: 0
A21: Bowman Estates | B21: Regular SLP | C21: Central | D21: Danville | E21: ='Supportive Living Program'!$D$7 -> 149.63 | F21: ='Supportive Living Program'!$E$7 -> 46204 | H21: =E21 -> 149.63 | I21: 0
A22: Bridgeway Supportive Living Community | B22: Regular SLP | C22: Chicago | D22: Bensenville | E22: ='Supportive Living Program'!$D$10 -> 154.03 | F22: ='Supportive Living Program'!$E$10 -> 46204 | H22: =E22 -> 154.03 | I22: 0
A23: Bridgeway Supportive Living Community | B23: Dementia SLP | C23: Chicago | D23: Bensenville | E23: ='Supportive Living Program'!$D$17 -> 226.59 | F23: ='Supportive Living Program'!$E$17 -> 46204 | H23: =E23 -> 226.59 | I23: 0
A24: Brookstone Estates of Effingham | B24: Regular SLP | C24: South | D24: Effingham | E24: ='Supportive Living Program'!$D$9 -> 133.74 | F24: ='Supportive Living Program'!$E$9 -> 46204 | H24: =E24 -> 133.74 | I24: 0
A25: Brookstone Estates of Fairfield | B25: Regular SLP | C25: South | D25: Fairfield | E25: ='Supportive Living Program'!$D$9 -> 133.74 | F25: ='Supportive Living Program'!$E$9 -> 46204 | H25: =E25 -> 133.74 | I25: 0
A26: Brookstone Estates of Harrisburg | B26: Regular SLP | C26: South | D26: Harrisburg | E26: ='Supportive Living Program'!$D$9 -> 133.74 | F26: ='Supportive Living Program'!$E$9 -> 46204 | H26: =E26 -> 133.74 | I26: 0
A27: Brookstone Estates of Mattoon | B27: Regular SLP | C27: Central | D27: Mattoon | E27: ='Supportive Living Program'!$D$7 -> 149.63 | F27: ='Supportive Living Program'!$E$7 -> 46204 | H27: =E27 -> 149.63 | I27: 0
A28: Brookstone Estates of Paris | B28: Regular SLP | C28: Central | D28: Paris | E28: ='Supportive Living Program'!$D$7 -> 149.63 | F28: ='Supportive Living Program'!$E$7 -> 46204 | H28: =E28 -> 149.63 | I28: 0
A29: Brookstone Estates of Rantoul | B29: Regular SLP | C29: Central | D29: Rantoul | E29: ='Supportive Living Program'!$D$7 -> 149.63 | F29: ='Supportive Living Program'!$E$7 -> 46204 | H29: =E29 -> 149.63 | I29: 0
A30: Brookstone Estates of Robinson | B30: Regular SLP | C30: South | D30: Robinson | E30: ='Supportive Living Program'!$D$9 -> 133.74 | F30: ='Supportive Living Program'!$E$9 -> 46204 | H30: =E30 -> 133.74 | I30: 0
A31: Brookstone Estates of Tuscola | B31: Regular SLP | C31: Central | D31: Tuscola | E31: ='Supportive Living Program'!$D$7 -> 149.63 | F31: ='Supportive Living Program'!$E$7 -> 46204 | H31: =E31 -> 149.63 | I31: 0
A32: Brookstone Estates of Vandalia | B32: Regular SLP | C32: South | D32: Vandalia | E32: ='Supportive Living Program'!$D$9 -> 133.74 | F32: ='Supportive Living Program'!$E$9 -> 46204 | H32: =E32 -> 133.74 | I32: 0
A33: Brookstone of Aledo | B33: Regular SLP | C33: Northwest | D33: Aledo | E33: ='Supportive Living Program'!$D$6 -> 148.84 | F33: ='Supportive Living Program'!$E$6 -> 46204 | H33: =E33 -> 148.84 | I33: 0
A34: Cambridge House of Maryville | B34: Regular SLP | C34: St. Louis | D34: Maryville | E34: ='Supportive Living Program'!$D$12 -> 145.05 | F34: ='Supportive Living Program'!$E$12 -> 46204 | H34: =E34 -> 145.05 | I34: 0
A35: Cambridge House of O'Fallon | B35: Regular SLP | C35: St. Louis | D35: O Fallon | E35: ='Supportive Living Program'!$D$12 -> 145.05 | F35: ='Supportive Living Program'!$E$12 -> 46204 | H35: =E35 -> 145.05 | I35: 0
A36: Cambridge House of Swansea | B36: Regular SLP | C36: St. Louis | D36: Belleville | E36: ='Supportive Living Program'!$D$12 -> 145.05 | F36: ='Supportive Living Program'!$E$12 -> 46204 | H36: =E36 -> 145.05 | I36: 0
A37: Carlyle Senior Living | B37: Regular SLP | C37: St. Louis | D37: Carlyle | E37: ='Supportive Living Program'!$D$12 -> 145.05 | F37: ='Supportive Living Program'!$E$12 -> 46204 | H37: =E37 -> 145.05 | I37: 0
A38: Castle Manor | B38: Regular SLP | C38: West Central | D38: Lincoln | E38: ='Supportive Living Program'!$D$8 -> 141.55 | F38: ='Supportive Living Program'!E$8 -> 46204 | H38: =E38 -> 141.55 | I38: 0
A39: Chapters Living of Carmi | B39: Regular SLP | C39: South | D39: Carmi | E39: ='Supportive Living Program'!$D$9 -> 133.74 | F39: ='Supportive Living Program'!$E$9 -> 46204 | H39: =E39 -> 133.74 | I39: 0
A40: Chapters Living of Washington | B40: Regular SLP | C40: Central | D40: Washington | E40: ='Supportive Living Program'!$D$7 -> 149.63 | F40: ='Supportive Living Program'!$E$7 -> 46204 | H40: =E40 -> 149.63 | I40: 0
A41: Churchview Supportive Living Community | B41: Regular SLP | C41: Chicago | D41: Chicago | E41: ='Supportive Living Program'!$D$10 -> 154.03 | F41: ='Supportive Living Program'!$E$10 -> 46204 | H41: =E41 -> 154.03 | I41: 0
A42: Concord Place | B42: Regular SLP | C42: Chicago | D42: Northlake | E42: ='Supportive Living Program'!$D$10 -> 154.03 | F42: ='Supportive Living Program'!$E$10 -> 46204 | H42: =E42 -> 154.03 | I42: 0
A43: Covenant Home of Chicago | B43: Regular SLP | C43: Chicago | D43: Chicago | E43: ='Supportive Living Program'!$D$10 -> 154.03 | F43: ='Supportive Living Program'!$E$10 -> 46204 | H43: =E43 -> 154.03 | I43: 0
A44: Deer Path of Huntley | B44: Regular SLP | C44: Chicago | D44: Huntley | E44: ='Supportive Living Program'!$D$10 -> 154.03 | F44: ='Supportive Living Program'!$E$10 -> 46204 | H44: =E44 -> 154.03 | I44: 0
A45: Deerfield Supportive Living | B45: Regular SLP | C45: Chicago | D45: Deerfield | E45: 154.03 | F45: 46204 | H45: 154.03 | I45: 0
A46: Eagle Ridge of Decatur | B46: Regular SLP | C46: Central | D46: Decatur | E46: ='Supportive Living Program'!$D$7 -> 149.63 | F46: ='Supportive Living Program'!$E$7 -> 46204 | H46: =E46 -> 149.63 | I46: 0
A47: Eagles View Supportive Living | B47: Regular SLP | C47: Central | D47: Rantoul | E47: ='Supportive Living Program'!$D$7 -> 149.63 | F47: ='Supportive Living Program'!$E$7 -> 46204 | H47: =E47 -> 149.63 | I47: 0
A48: Eagles View Supportive Living | B48: Dementia SLP | C48: Central | D48: Rantoul | E48: ='Supportive Living Program'!$D$14 -> 220 | F48: ='Supportive Living Program'!$E$14 -> 46204 | H48: =E48 -> 220 | I48: 0
A49: Eden South Shore | B49: Regular SLP | C49: Chicago | D49: Chicago | E49: ='Supportive Living Program'!$D$10 -> 154.03 | F49: ='Supportive Living Program'!$E$10 -> 46204 | H49: =E49 -> 154.03 | I49: 0
A50: Eden Supportive Living | B50: Regular SLP | C50: Chicago | D50: Chicago | E50: ='Supportive Living Program'!$D$10 -> 154.03 | F50: ='Supportive Living Program'!$E$10 -> 46204 | H50: =E50 -> 154.03 | I50: 0
A51: Eden Supportive Living Champaign | B51: Regular SLP | C51: Central | D51: Champaign | E51: ='Supportive Living Program'!$D$7 -> 149.63 | F51: ='Supportive Living Program'!$E$7 -> 46204 | H51: =E51 -> 149.63 | I51: 0
A52: Eden Supportive Living Fox Valley | B52: Regular SLP | C52: Chicago | D52: North Aurora | E52: ='Supportive Living Program'!$D$10 -> 154.03 | F52: ='Supportive Living Program'!$E$10 -> 46204 | H52: =E52 -> 154.03 | I52: 0
A53: Emerald Glen of Olney | B53: Regular SLP | C53: South | D53: Olney | E53: ='Supportive Living Program'!$D$9 -> 133.74 | F53: ='Supportive Living Program'!$E$9 -> 46204 | H53: =E53 -> 133.74 | I53: 0
A54: Everest Supportive Living of Beardstown | B54: Regular SLP | C54: West Central | D54: Beardstown | E54: ='Supportive Living Program'!$D$8 -> 141.55 | F54: ='Supportive Living Program'!E$8 -> 46204 | H54: =E54 -> 141.55 | I54: 0
A55: Evergreen Place Alton | B55: Regular SLP | C55: St. Louis | D55: Alton | E55: ='Supportive Living Program'!$D$12 -> 145.05 | F55: ='Supportive Living Program'!$E$12 -> 46204 | H55: =E55 -> 145.05 | I55: 0
A56: Evergreen Place Decatur | B56: Regular SLP | C56: Central | D56: Decatur | E56: ='Supportive Living Program'!$D$7 -> 149.63 | F56: ='Supportive Living Program'!$E$7 -> 46204 | H56: =E56 -> 149.63 | I56: 0
A57: Evergreen Place Decatur | B57: Dementia SLP | C57: Central | D57: Decatur | E57: ='Supportive Living Program'!$D$14 -> 220 | F57: ='Supportive Living Program'!$E$14 -> 46204 | H57: =E57 -> 220 | I57: 0
A58: Evergreen Place Litchfield | B58: Regular SLP | C58: West Central | D58: Litchfield | E58: ='Supportive Living Program'!$D$8 -> 141.55 | F58: ='Supportive Living Program'!E$8 -> 46204 | H58: =E58 -> 141.55 | I58: 0
A59: Evergreen Place Streator | B59: Regular SLP | C59: Central | D59: Streator | E59: ='Supportive Living Program'!$D$7 -> 149.63 | F59: ='Supportive Living Program'!$E$7 -> 46204 | H59: =E59 -> 149.63 | I59: 0
A60: Evergreen Village Supportive | B60: Regular SLP | C60: Central | D60: Normal | E60: ='Supportive Living Program'!$D$7 -> 149.63 | F60: ='Supportive Living Program'!$E$7 -> 46204 | H60: =E60 -> 149.63 | I60: 0
A61: Evolve at Lake Zurich | B61: Regular SLP | C61: Chicago | D61: Lake Zurich | E61: ='Supportive Living Program'!$D$10 -> 154.03 | F61: ='Supportive Living Program'!$E$10 -> 46204 | H61: =E61 -> 154.03 | I61: 0
A62: Fort Armstrong | B62: Regular SLP | C62: Northwest | D62: Rock Island | E62: ='Supportive Living Program'!$D$6 -> 148.84 | F62: ='Supportive Living Program'!$E$6 -> 46204 | H62: =E62 -> 148.84 | I62: 0
A63: Fox Meadows Supportive Living | B63: Regular SLP | C63: South | D63: Mc Leansboro | E63: ='Supportive Living Program'!$D$9 -> 133.74 | F63: ='Supportive Living Program'!$E$9 -> 46204 | H63: =E63 -> 133.74 | I63: 0
A64: Franciscan Court | B64: Regular SLP | C64: Chicago | D64: West Chicago | E64: ='Supportive Living Program'!$D$10 -> 154.03 | F64: ='Supportive Living Program'!$E$10 -> 46204 | H64: =E64 -> 154.03 | I64: 0
A65: Franciscan Court | B65: Dementia SLP | C65: Chicago | D65: West Chicago | E65: 151.28 | F65: 46204 | H65: 151.28 | I65: 0
A66: Friedman Place | B66: Regular SLP | C66: Chicago | D66: Chicago | E66: ='Supportive Living Program'!$D$10 -> 154.03 | F66: ='Supportive Living Program'!$E$10 -> 46204 | H66: =E66 -> 154.03 | I66: 0
A67: Gateway at River City | B67: Regular SLP | C67: Central | D67: Peoria | E67: ='Supportive Living Program'!$D$7 -> 149.63 | F67: ='Supportive Living Program'!$E$7 -> 46204 | H67: =E67 -> 149.63 | I67: 0
A68: Glenwood of Greenville | B68: Regular SLP | C68: St. Louis | D68: Greenville | E68: ='Supportive Living Program'!$D$12 -> 145.05 | F68: ='Supportive Living Program'!$E$12 -> 46204 | H68: =E68 -> 145.05 | I68: 0
A69: Glenwood of Mt Zion | B69: Regular SLP | C69: Central | D69: Mount Zion | E69: ='Supportive Living Program'!$D$7 -> 149.63 | F69: ='Supportive Living Program'!$E$7 -> 46204 | H69: =E69 -> 149.63 | I69: 0
A70: Glenwood of Staunton | B70: Regular SLP | C70: West Central | D70: Staunton | E70: ='Supportive Living Program'!$D$8 -> 141.55 | F70: ='Supportive Living Program'!E$8 -> 46204 | H70: =E70 -> 141.55 | I70: 0
A71: Goldwater Estates of Clinton | B71: Regular SLP | C71: Central | D71: Clinton | E71: ='Supportive Living Program'!$D$7 -> 149.63 | F71: ='Supportive Living Program'!$E$7 -> 46204 | H71: =E71 -> 149.63 | I71: 0
A72: Grand Prairie Supportive Living | B72: Regular SLP | C72: Central | D72: Macomb | E72: ='Supportive Living Program'!$D$7 -> 149.63 | F72: ='Supportive Living Program'!$E$7 -> 46204 | H72: =E72 -> 149.63 | I72: 0
A73: Grand Regency of Jackson Park | B73: Regular SLP | C73: Chicago | D73: Chicago | E73: ='Supportive Living Program'!$D$10 -> 154.03 | F73: ='Supportive Living Program'!$E$10 -> 46204 | H73: =E73 -> 154.03 | I73: 0
A74: Grand Regency of Peoria | B74: Regular SLP | C74: Central | D74: Peoria | E74: ='Supportive Living Program'!$D$7 -> 149.63 | F74: ='Supportive Living Program'!$E$7 -> 46204 | H74: =E74 -> 149.63 | I74: 0
A75: Grand Regency of Robbins | B75: Regular SLP | C75: Chicago | D75: Robbins | E75: ='Supportive Living Program'!$D$10 -> 154.03 | F75: ='Supportive Living Program'!$E$10 -> 46204 | H75: =E75 -> 154.03 | I75: 0
A76: Grand Regency of Rockford | B76: Regular SLP | C76: Northwest | D76: Rockford | E76: ='Supportive Living Program'!$D$6 -> 148.84 | F76: ='Supportive Living Program'!$E$6 -> 46204 | H76: =E76 -> 148.84 | I76: 0
A77: Grand Regency of Rockford | B77: Dementia SLP | C77: Northwest | D77: Rockford | E77: ='Supportive Living Program'!$D$13 -> 218.8 | F77: ='Supportive Living Program'!$E$13 -> 46204 | H77: =E77 -> 218.8 | I77: 0
A78: Grand Regency South Shore | B78: Regular SLP | C78: Chicago | D78: Chicago | E78: ='Supportive Living Program'!$D$10 -> 154.03 | F78: ='Supportive Living Program'!$E$10 -> 46204 | H78: =E78 -> 154.03 | I78: 0
A79: Green Oaks Supportive Living of Park Forest | B79: Regular SLP | C79: Chicago | D79: Park Forest | E79: ='Supportive Living Program'!$D$10 -> 154.03 | F79: ='Supportive Living Program'!$E$10 -> 46204 | H79: =E79 -> 154.03 | I79: 0
A80: Green Oaks Supportive Living of River Oaks | B80: Regular SLP | C80: Chicago | D80: Calumet City | E80: ='Supportive Living Program'!$D$10 -> 154.03 | F80: ='Supportive Living Program'!$E$10 -> 46204 | H80: =E80 -> 154.03 | I80: 0
A81: Hawthorne Inn of Freeport | B81: Regular SLP | C81: Northwest | D81: Freeport | E81: ='Supportive Living Program'!$D$6 -> 148.84 | F81: ='Supportive Living Program'!$E$6 -> 46204 | H81: =E81 -> 148.84 | I81: 0
A82: Hawthorne Inn of Princeton | B82: Regular SLP | C82: Central | D82: Princeton | E82: ='Supportive Living Program'!$D$7 -> 149.63 | F82: ='Supportive Living Program'!$E$7 -> 46204 | H82: =E82 -> 149.63 | I82: 0
A83: Heritage Woods of Batavia | B83: Regular SLP | C83: Chicago | D83: Batavia | E83: ='Supportive Living Program'!$D$10 -> 154.03 | F83: ='Supportive Living Program'!$E$10 -> 46204 | H83: =E83 -> 154.03 | I83: 0
A84: Heritage Woods of Belvidere | B84: Regular SLP | C84: Northwest | D84: Belvidere | E84: ='Supportive Living Program'!$D$6 -> 148.84 | F84: ='Supportive Living Program'!$E$6 -> 46204 | H84: =E84 -> 148.84 | I84: 0
A85: Heritage Woods of Benton | B85: Regular SLP | C85: South | D85: Benton | E85: ='Supportive Living Program'!$D$9 -> 133.74 | F85: ='Supportive Living Program'!$E$9 -> 46204 | H85: =E85 -> 133.74 | I85: 0
A86: Heritage Woods of Bolingbrook | B86: Regular SLP | C86: South Suburbs | D86: Bolingbrook | E86: ='Supportive Living Program'!$D$11 -> 148.86 | F86: ='Supportive Living Program'!$E$11 -> 46204 | H86: =E86 -> 148.86 | I86: 0
A87: Heritage Woods of Canton | B87: Regular SLP | C87: Central | D87: Canton | E87: ='Supportive Living Program'!$D$7 -> 149.63 | F87: ='Supportive Living Program'!$E$7 -> 46204 | H87: =E87 -> 149.63 | I87: 0
A88: Heritage Woods of Centralia | B88: Regular SLP | C88: South | D88: Centralia | E88: ='Supportive Living Program'!$D$9 -> 133.74 | F88: ='Supportive Living Program'!$E$9 -> 46204 | H88: =E88 -> 133.74 | I88: 0
A89: Heritage Woods of Charleston | B89: Regular SLP | C89: Central | D89: Charleston | E89: ='Supportive Living Program'!$D$7 -> 149.63 | F89: ='Supportive Living Program'!$E$7 -> 46204 | H89: =E89 -> 149.63 | I89: 0
A90: Heritage Woods of Chicago | B90: Regular SLP | C90: Chicago | D90: Chicago | E90: ='Supportive Living Program'!$D$10 -> 154.03 | F90: ='Supportive Living Program'!$E$10 -> 46204 | H90: =E90 -> 154.03 | I90: 0
A91: Heritage Woods of Dekalb | B91: Regular SLP | C91: Northwest | D91: Dekalb | E91: ='Supportive Living Program'!$D$6 -> 148.84 | F91: ='Supportive Living Program'!$E$6 -> 46204 | H91: =E91 -> 148.84 | I91: 0
A92: Heritage Woods of Dwight | B92: Regular SLP | C92: Central | D92: Dwight | E92: ='Supportive Living Program'!$D$7 -> 149.63 | F92: ='Supportive Living Program'!$E$7 -> 46204 | H92: =E92 -> 149.63 | I92: 0
A93: Heritage Woods of Flora | B93: Regular SLP | C93: South | D93: Flora | E93: ='Supportive Living Program'!$D$9 -> 133.74 | F93: ='Supportive Living Program'!$E$9 -> 46204 | H93: =E93 -> 133.74 | I93: 0
A94: Heritage Woods of Freeport | B94: Regular SLP | C94: Northwest | D94: Freeport | E94: ='Supportive Living Program'!$D$6 -> 148.84 | F94: ='Supportive Living Program'!$E$6 -> 46204 | H94: =E94 -> 148.84 | I94: 0
A95: Heritage Woods of Gurnee | B95: Regular SLP | C95: Chicago | D95: Gurnee | E95: ='Supportive Living Program'!$D$10 -> 154.03 | F95: ='Supportive Living Program'!$E$10 -> 46204 | H95: =E95 -> 154.03 | I95: 0
A96: Heritage Woods of Manteno | B96: Regular SLP | C96: South Suburbs | D96: Manteno | E96: ='Supportive Living Program'!$D$11 -> 148.86 | F96: ='Supportive Living Program'!$E$11 -> 46204 | H96: =E96 -> 148.86 | I96: 0
A97: Heritage Woods of Mchenry | B97: Regular SLP | C97: Chicago | D97: Mchenry | E97: ='Supportive Living Program'!$D$10 -> 154.03 | F97: ='Supportive Living Program'!$E$10 -> 46204 | H97: =E97 -> 154.03 | I97: 0
A98: Heritage Woods of Minooka | B98: Regular SLP | C98: South Suburbs | D98: Minooka | E98: ='Supportive Living Program'!$D$11 -> 148.86 | F98: ='Supportive Living Program'!$E$11 -> 46204 | H98: =E98 -> 148.86 | I98: 0
A99: Heritage Woods of Moline | B99: Regular SLP | C99: Northwest | D99: Moline | E99: ='Supportive Living Program'!$D$6 -> 148.84 | F99: ='Supportive Living Program'!$E$6 -> 46204 | H99: =E99 -> 148.84 | I99: 0
A100: Heritage Woods of Mt Vernon | B100: Regular SLP | C100: South | D100: Mount Vernon | E100: ='Supportive Living Program'!$D$9 -> 133.74 | F100: ='Supportive Living Program'!$E$9 -> 46204 | H100: =E100 -> 133.74 | I100: 0
A101: Heritage Woods of Ottawa | B101: Regular SLP | C101: Central | D101: Ottawa | E101: ='Supportive Living Program'!$D$7 -> 149.63 | F101: ='Supportive Living Program'!$E$7 -> 46204 | H101: =E101 -> 149.63 | I101: 0
...
