Workbook
Name ALLRT23C: ' Provider Specific Rates'!$A$6:$F$6
Name ALLRT23CSMHRF_jeh: #REF!

Sheet Supportive Living Program
A1: ILLINOIS DEPARTMENT OF HEALTHCARE AND FAMILY SERVICES
A2: BUREAU OF RATE DEVELOPMENT AND ANALYSIS
A3: MEDICAID RATE LIST FOR SLF AS OF 07-01-2026
A5: Service/Service Description | B5: Geographic Area for Applicable Rate | C5: Service Unit Type | D5: Unit Rate | E5: Fee Schedule Effective Date
A6: Regular SLP | B6: Northwest | C6: Per Diem | D6: 148.84 | E6: 46204
A7: Regular SLP | B7: Central | C7: Per Diem | D7: 149.63 | E7: 46204
A8: Regular SLP | B8: West Central | C8: Per Diem | D8: 141.55 | E8: 46204
A9: Regular SLP | B9: South | C9: Per Diem | D9: 133.74 | E9: 46204
A10: Regular SLP | B10: Chicago | C10: Per Diem | D10: 154.03 | E10: 46204
A11: Regular SLP | B11: South Suburb | C11: Per Diem | D11: 148.86 | E11: 46204
A12: Regular SLP | B12: St. Louis | C12: Per Diem | D12: 145.05 | E12: 46204
A13: Dementia SLP | B13: Northwest | C13: Per Diem | D13: 218.8 | E13: 46204
A14: Dementia SLP | B14: Central | C14: Per Diem | D14: 220 | E14: 46204
A15: Dementia SLP | B15: West Central | C15: Per Diem | D15: 207.88 | E15: 46204
A16: Dementia SLP | B16: South | C16: Per Diem | D16: 196.15 | E16: 46204
A17: Dementia SLP | B17: Chicago | C17: Per Diem | D17: 226.59 | E17: 46204
... A19: Dementia SLP | B19: St. Louis | C19: Per Diem | D19: 213.12 | E19: 46204
A21: *Includes $6.15 due to the suspension of SNAP benefits and 2.75 for Quality Add-on
A23: The following facilities have the $2.75 add on suspended due to QM Reporting Templates and verification documents not being submitted;
A24: 1 | B24: Acorn Estates
A25: 2 | B25: Vistas of Lincoln Park
A26: 3 | B26: Joshua Arms
A27: 4 | B27: Fransiscan Court

Sheet  Provider Specific Rates
A1: ILLINOIS DEPARTMENT OF HEALTHCARE AND FAMILY SERVICES
A2: BUREAU OF RATE DEVELOPMENT AND ANALYSIS
A3: MEDICAID RATE LIST FOR SUPPORTIVE LIVING FACILITIES AS OF 07-01-2026
A5: *Therapeutically beneficial leave of absence days payable at 100% of facility daily for up to 30 days per fiscal year. Days exceeding 30 per fiscal year are non-payable. | H5: Leave of Absence or Bed Reserve Days
A6: Facility Name | B6: Service Description | C6: Geographic Area for Applicable Rate | D6: City | E6: Total Rate | F6: Effective Rate | H6: Days 1 - 30* | I6: 31 Days or More*
A7: Acorn Estates | B7: Regular SLP | C7: South | D7: Mount Carmel | E7: ='Supportive Living Program'!$D$9 -> 133.74 | F7: ='Supportive Living Program'!$E$9 -> 46204 | H7: =E7 -> 133.74 | I7: 0
A8: Alden Gardens of Bloomingdale | B8: Regular SLP | C8: Chicago | D8: Bloomingdale | E8: ='Supportive Living Program'!$D$10 -> 154.03 | F8: ='Supportive Living Program'!$E$10 -> 46204 | H8: =E8 -> 154.03 | I8: 0
A9: Alden Gardens of Waterford | B9: Regular SLP | C9: Chicago | D9: Aurora | E9: ='Supportive Living Program'!$D$10 -> 154.03 | F9: ='Supportive Living Program'!$E$10 -> 46204 | H9: =E9 -> 154.03 | I9: 0
A10: Allure Active Living of Zion | B10: Regular SLP | C10: Chicago | D10: Zion | E10: ='Supportive Living Program'!$D$10 -> 154.03 | F10: ='Supportive Living Program'!$E$10 -> 46204 | H10: =E10 -> 154.03 | I10: 0
A11: Allure Active Living of Zion | B11: Dementia SLP | C11: Chicago | D11: Zion | E11: ='Supportive Living Program'!$D$17 -> 226.59 | F11: ='Supportive Living Program'!$E$17 -> 46204 | H11: =E11 -> 226.59 | I11: 0
A12: Andersonville Supportive Living | B12: Regular SLP | C12: Chicago | D12: Chicago | E12: ='Supportive Living Program'!$D$10 -> 154.03 | F12: ='Supportive Living Program'!$E$10 -> 46204 | H12: =E12 -> 154.03 | I12: 0
A13: Asbury Court Retirement Community | B13: Regular SLP | C13: Chicago | D13: Des Plaines | E13: ='Supportive Living Program'!$D$10 -> 154.03 | F13: ='Supportive Living Program'!$E$10 -> 46204 | H13: =E13 -> 154.03 | I13: 0
A14: Asbury Court Retirement Community | B14: Dementia SLP | C14: Chicago | D14: Des Plaines | E14: ='Supportive Living Program'!$D$17 -> 226.59 | F14: ='Supportive Living Program'!$E$17 -> 46204 | H14: =E14 -> 226.59 | I14: 0
A15: Asbury Gardens Supportive Living Facility | B15: Regular SLP | C15: Chicago | D15: North Aurora | E15: ='Supportive Living Program'!$D$10 -> 154.03 | F15: ='Supportive Living Program'!$E$10 -> 46204 | H15: =E15 -> 154.03 | I15: 0
A16: Asbury Gardens Supportive Living Facility | B16: Dementia SLP | C16: Chicago | D16: North Aurora | E16: ='Supportive Living Program'!$D$17 -> 226.59 | F16: ='Supportive Living Program'!$E$17 -> 46204 | H16: =E16 -> 226.59 | I16: 0
A17: Autumn Ridge Supportive Living | B17: Regular SLP | C17: South | D17: Vienna | E17: ='Supportive Living Program'!$D$9 -> 133.74 | F17: ='Supportive Living Program'!$E$9 -> 46204 | H17: =E17 -> 133.74 | I17: 0
A18: Barton Senior Residence Chicago | B18: Regular SLP | C18: Chicago | D18: Chicago | E18: ='Supportive Living Program'!$D$10 -> 154.03 | F18: ='Supportive Living Program'!$E$10 -> 46204 | H18: =E18 -> 154.03 | I18: 0
A19: Barton Senior Residences Zion | B19: Regular SLP | C19: Chicago | D19: Zion | E19: ='Supportive Living Program'!$D$10 -> 154.03 | F19: ='Supportive Living Program'!$E$10 -> 46204 | H19: =E19 -> 154.03 | I19: 0
A20: Beth Anne Place | B20: Regular SLP | C20: Chicago | D20: Chicago | E20: ='Supportive Living Program'!$D$10 -> 154.03 | F20: ='Supportive Living Program'!$E$10 -> 46204 | H20: =E20 -> 154.03 | I20: 0
A21: Bowman Estates | B21: Regular SLP | C21: Central | D21: Danville | E21: ='Supportive Living Program'!$D$7 -> 149.63 | F21: ='Supportive Living Program'!$E$7 -> 46204 | H21: =E21 -> 149.63 | I21: 0
A22: Bridgeway Supportive Living Community | B22: Regular SLP | C22: Chicago | D22: Bensenville | E22: ='Supportive Living Program'!$D$10 -> 154.03 | F22: ='Supportive Living Program'!$E$10 -> 46204 | H22: =E22 -> 154.03 | I22: 0
A23: Bridgeway Supportive Living Community | B23: Dementia SLP | C23: Chicago | D23: Bensenville | E23: ='Supportive Living Program'!$D$17 -> 226.59 | F23: ='Supportive Living Program'!$E$17 -> 46204 | H23: =E23 -> 226.59 | I23: 0
A24: Brookstone Estates of Effingham | B24: Regular SLP | C24: South | D24: Effingham | E24: ='Supportive Living Program'!$D$9 -> 133.74 | F24: ='Supportive Living Program'!$E$9 -> 46204 | H24: =E24 -> 133.74 | I24: 0
A25: Brookstone Estates of Fairfield | B25: Regular SLP | C25: South | D25: Fairfield | E25: ='Supportive Living Program'!$D$9 -> 133.74 | F25: ='Supportive Living Program'!$E$9 -> 46204 | H25: =E25 -> 133.74 | I25: 0
A26: Brookstone Estates of Harrisburg | B26: Regular SLP | C26: South | D26: Harrisburg | E26: ='Supportive Living Program'!$D$9 -> 133.74 | F26: ='Supportive Living Program'!$E$9 -> 46204 | H26: =E26 -> 133.74 | I26: 0
A27: Brookstone Estates of Mattoon | B27: Regular SLP | C27: Central | D27: Mattoon | E27: ='Supportive Living Program'!$D$7 -> 149.63 | F27: ='Supportive Living Program'!$E$7 -> 46204 | H27: =E27 -> 149.63 | I27: 0
A28: Brookstone Estates of Paris | B28: Regular SLP | C28: Central | D28: Paris | E28: ='Supportive Living Program'!$D$7 -> 149.63 | F28: ='Supportive Living Program'!$E$7 -> 46204 | H28: =E28 -> 149.63 | I28: 0
A29: Brookstone Estates of Rantoul | B29: Regular SLP | C29: Central | D29: Rantoul | E29: ='Supportive Living Program'!$D$7 -> 149.63 | F29: ='Supportive Living Program'!$E$7 -> 46204 | H29: =E29 -> 149.63 | I29: 0
A30: Brookstone Estates of Robinson | B30: Regular SLP | C30: South | D30: Robinson | E30: ='Supportive Living Program'!$D$9 -> 133.74 | F30: ='Supportive Living Program'!$E$9 -> 46204 | H30: =E30 -> 133.74 | I30: 0
A31: Brookstone Estates of Tuscola | B31: Regular SLP | C31: Central | D31: Tuscola | E31: ='Supportive Living Program'!$D$7 -> 149.63 | F31: ='Supportive Living Program'!$E$7 -> 46204 | H31: =E31 -> 149.63 | I31: 0
A32: Brookstone Estates of Vandalia | B32: Regular SLP | C32: South | D32: Vandalia | E32: ='Supportive Living Program'!$D$9 -> 133.74 | F32: ='Supportive Living Program'!$E$9 -> 46204 | H32: =E32 -> 133.74 | I32: 0
A33: Brookstone of Aledo | B33: Regular SLP | C33: Northwest | D33: Aledo | E33: ='Supportive Living Program'!$D$6 -> 148.84 | F33: ='Supportive Living Program'!$E$6 -> 46204 | H33: =E33 -> 148.84 | I33: 0
A34: Cambridge House of Maryville | B34: Regular SLP | C34: St. Louis | D34: Maryville | E34: ='Supportive Living Program'!$D$12 -> 145.05 | F34: ='Supportive Living Program'!$E$12 -> 46204 | H34: =E34 -> 145.05 | I34: 0
A35: Cambridge House of O'Fallon | B35: Regular SLP | C35: St. Louis | D35: O Fallon | E35: ='Supportive Living Program'!$D$12 -> 145.05 | F35: ='Supportive Living Program'!$E$12 -> 46204 | H35: =E35 -> 145.05 | I35: 0
A36: Cambridge House of Swansea | B36: Regular SLP | C36: St. Louis | D36: Belleville | E36: ='Supportive Living Program'!$D$12 -> 145.05 | F36: ='Supportive Living Program'!$E$12 -> 46204 | H36: =E36 -> 145.05 | I36: 0
A37: Carlyle Senior Living | B37: Regular SLP | C37: St. Louis | D37: Carlyle | E37: ='Supportive Living Program'!$D$12 -> 145.05 | F37: ='Supportive Living Program'!$E$12 -> 46204 | H37: =E37 -> 145.05 | I37: 0
A38: Castle Manor | B38: Regular SLP | C38: West Central | D38: Lincoln | E38: ='Supportive Living Program'!$D$8 -> 141.55 | F38: ='Supportive Living Program'!E$8 -> 46204 | H38: =E38 -> 141.55 | I38: 0
A39: Chapters Living of Carmi | B39: Regular SLP | C39: South | D39: Carmi | E39: ='Supportive Living Program'!$D$9 -> 133.74 | F39: ='Supportive Living Program'!$E$9 -> 46204 | H39: =E39 -> 133.74 | I39: 0
A40: Chapters Living of Washington | B40: Regular SLP | C40: Central | D40: Washington | E40: ='Supportive Living Program'!$D$7 -> 149.63 | F40: ='Supportive Living Program'!$E$7 -> 46204 | H40: =E40 -> 149.63 | I40: 0
A41: Churchview Supportive Living Community | B41: Regular SLP | C41: Chicago | D41: Chicago | E41: ='Supportive Living Program'!$D$10 -> 154.03 | F41: ='Supportive Living Program'!$E$10 -> 46204 | H41: =E41 -> 154.03 | I41: 0
...
