Workbook

Sheet Sheet2
A1: FFY 2026 CBSA Code | B1: 16580
A3: Row Labels
A4: Champaign | F4: 14010 | G4: McLean
A5: Ford | F5: 16020 | G5: Alexander
A6: Piatt | F6: 16984 | G6: Champaign
A7: Grand Total | G7: Ford
G8: Piatt
F9: 19340 | G9: Cook
G10: DuPage
G11: Grundy
G12: McHenry
G13: Will
F14: 19340 | G14: Henry
G15: Mercer
G16: Rock Island
F17: 19500 | G17: Macon
F18: 20994 | G18: DeKalb
G19: Kane
G20: Kendall
F21: 29404 | G21: Kankakee
F22: 37140 | G22: Lake
F23: 37900 | G23: Massac
F24: 40420 | G24: Marshall
G25: Peoria
G26: Stark
G27: Tazewell
G28: Woodford
F29: 41180 | G29: Boone
G30: Winnebago
F31: 44100 | G31: Bond
G32: Calhoun
G33: Clinton
G34: Jersey
G35: Macoupin
G36: Madison
G37: Monroe
G38: St. Clair
G39: Menard
G40: Sangamon
F41: 99914 | G41: Adams
G42: Brown
G43: Bureau
G44: Carroll
G45: Cass
G46: Christian
G47: Clark
G48: Clay
G49: Coles
G50: Crawford
G51: Cumberland
G52: DeWitt
G53: Douglas
... G105: Williamson

Sheet FFY 2026 Hospice Rates
A1: Federal FY 2026 Hospice Rates: Calculated Using 10/01/25 – 09/30/26 Wage Index Values Associated with Illinois Counties
A3: Core Based Statistical Area (CBSA) | B3: County Coverage | C3: Service Description | D3: Service Condition | E3: Revenue Code | F3: Rate
A4: 14010 | B4: McLean | C4: Routine Home Care | D4: Days 1-60 | E4: 651 | F4: ='Wage Index Calculation'!E66 -> 215.03598
C5: Routine Home Care | D5: Days 61+ | E5: 651 | F5: ='Wage Index Calculation'!F66 -> 169.49468
C6: Service Intensity Add-On | E6: 055X or 56X | F6: ='Wage Index Calculation'!G66 -> 64.25336
C7: Continuous Home Care | E7: 652 | F7: ='Wage Index Calculation'!H66 -> 1542.0564
C8: Inpatient Respite Care | E8: 655 | F8: ='Wage Index Calculation'!I66 -> 524.43849
C9: General Inpatient Care | E9: 656 | F9: ='Wage Index Calculation'!J66 -> 1119.4785
A10: 16020 | B10: Alexander | C10: Routine Home Care | D10: Days 1-60 | E10: 651 | F10: ='Wage Index Calculation'!E4 -> 200.62
C11: Routine Home Care | D11: Days 61+ | E11: 651 | F11: ='Wage Index Calculation'!F4 -> 158.132
C12: Service Intensity Add-On | E12: 055X or 56X | F12: ='Wage Index Calculation'!G4 -> 59.294
C13: Continuous Home Care | E13: 652 | F13: ='Wage Index Calculation'!H4 -> 1423.028
C14: Inpatient Respite Care | E14: 655 | F14: ='Wage Index Calculation'!I4 -> 492.128
C15: General Inpatient Care | E15: 656 | F15: ='Wage Index Calculation'!J4 -> 1047.478
A16: 16580 | B16: Champaign | C16: Routine Home Care | D16: Days 1-60 | E16: 651 | F16: ='Wage Index Calculation'!E12 -> 211.58835
B17: Ford | C17: Routine Home Care | D17: Days 61+ | E17: 651 | F17: ='Wage Index Calculation'!F12 -> 166.77726
B18: Piatt | C18: Service Intensity Add-On | E18: 055X or 56X | F18: ='Wage Index Calculation'!G12 -> 63.067312
C19: Continuous Home Care | E19: 652 | F19: ='Wage Index Calculation'!H12 -> 1513.5904
C20: Inpatient Respite Care | E20: 655 | F20: ='Wage Index Calculation'!I12 -> 516.71133
C21: General Inpatient Care | E21: 656 | F21: ='Wage Index Calculation'!J12 -> 1102.2593
A22: 16984 | B22: Cook | C22: Routine Home Care | D22: Days 1-60 | E22: 651 | F22: ='Wage Index Calculation'!E18 -> 234.60814
B23: DuPage | C23: Routine Home Care | D23: Days 61+ | E23: 651 | F23: ='Wage Index Calculation'!F18 -> 184.92147
B24: Grundy | C24: Service Intensity Add-On | E24: 055X or 56X | F24: ='Wage Index Calculation'!G18 -> 70.986544
B25: McHenry | C25: Continuous Home Care | E25: 652 | F25: ='Wage Index Calculation'!H18 -> 1703.658
B26: Will | C26: Inpatient Respite Care | E26: 655 | F26: ='Wage Index Calculation'!I18 -> 568.30555
C27: General Inpatient Care | E27: 656 | F27: ='Wage Index Calculation'!J18 -> 1217.2315
A28: 19340 | B28: Henry | C28: Routine Home Care | D28: Days 1-60 | E28: 651 | F28: ='Wage Index Calculation'!E39 -> 200.62
B29: Mercer | C29: Routine Home Care | D29: Days 61+ | E29: 651 | F29: ='Wage Index Calculation'!F39 -> 158.132
B30: Rock Island | C30: Service Intensity Add-On | E30: 055X or 56X | F30: ='Wage Index Calculation'!G39 -> 59.294
C31: Continuous Home Care | E31: 652 | F31: ='Wage Index Calculation'!H39 -> 1423.028
C32: Inpatient Respite Care | E32: 655 | F32: ='Wage Index Calculation'!I39 -> 492.128
C33: General Inpatient Care | E33: 656 | F33: ='Wage Index Calculation'!J39 -> 1047.478
A34: 19500 | B34: Macon | C34: Routine Home Care | D34: Days 1-60 | E34: 651 | F34: ='Wage Index Calculation'!E57 -> 206.93557
C35: Routine Home Care | D35: Days 61+ | E35: 651 | F35: ='Wage Index Calculation'!F57 -> 163.10994
C36: Service Intensity Add-On | E36: 055X or 56X | F36: ='Wage Index Calculation'!G57 -> 61.466672
C37: Continuous Home Care | E37: 652 | F37: ='Wage Index Calculation'!H57 -> 1475.1738
C38: Inpatient Respite Care | E38: 655 | F38: ='Wage Index Calculation'!I57 -> 506.28307
C39: General Inpatient Care | E39: 656 | F39: ='Wage Index Calculation'!J57 -> 1079.0211
A40: 20994 | B40: DeKalb | C40: Routine Home Care | D40: Days 1-60 | E40: 651 | F40: ='Wage Index Calculation'!E21 -> 228.58242
B41: Kane | C41: Routine Home Care | D41: Days 61+ | E41: 651 | F41: ='Wage Index Calculation'!F21 -> 180.17199
B42: Kendall | C42: Service Intensity Add-On | E42: 055X or 56X | F42: ='Wage Index Calculation'!G21 -> 68.913584
C43: Continuous Home Care | E43: 652 | F43: ='Wage Index Calculation'!H21 -> 1653.9053
C44: Inpatient Respite Care | E44: 655 | F44: ='Wage Index Calculation'!I21 -> 554.8001
C45: General Inpatient Care | E45: 656 | F45: ='Wage Index Calculation'!J21 -> 1187.1361
A46: 28100 | B46: Kankakee | C46: Routine Home Care | D46: Days 1-60 | E46: 651 | F46: ='Wage Index Calculation'!E48 -> 212.79349
C47: Routine Home Care | D47: Days 61+ | E47: 651 | F47: ='Wage Index Calculation'!F48 -> 167.72715
C48: Service Intensity Add-On | E48: 055X or 56X | F48: ='Wage Index Calculation'!G48 -> 63.481904
C49: Continuous Home Care | E49: 652 | F49: ='Wage Index Calculation'!H48 -> 1523.5409
C50: Inpatient Respite Care | E50: 655 | F50: ='Wage Index Calculation'!I48 -> 519.41242
C51: General Inpatient Care | E51: 656 | F51: ='Wage Index Calculation'!J48 -> 1108.2784
A52: 29404 | B52: Lake | C52: Routine Home Care | D52: Days 1-60 | E52: 651 | F52: ='Wage Index Calculation'!E51 -> 230.79439
C53: Routine Home Care | D53: Days 61+ | E53: 651 | F53: ='Wage Index Calculation'!F51 -> 181.91547
C54: Service Intensity Add-On | E54: 055X or 56X | F54: ='Wage Index Calculation'!G51 -> 69.674544
C55: Continuous Home Care | E55: 652 | F55: ='Wage Index Calculation'!H51 -> 1672.169
C56: Inpatient Respite Care | E56: 655 | F56: ='Wage Index Calculation'!I51 -> 559.7578
C57: General Inpatient Care | E57: 656 | F57: ='Wage Index Calculation'!J51 -> 1198.1838
A58: 37140 | B58: Massac | C58: Routine Home Care | D58: Days 1-60 | E58: 651 | F58: ='Wage Index Calculation'!E63 -> 210.35269
C59: Routine Home Care | D59: Days 61+ | E59: 651 | F59: ='Wage Index Calculation'!F63 -> 165.80331
C60: Service Intensity Add-On | E60: 055X or 56X | F60: ='Wage Index Calculation'!G63 -> 62.642224
C61: Continuous Home Care | E61: 652 | F61: ='Wage Index Calculation'!H63 -> 1503.3879
C62: Inpatient Respite Care | E62: 655 | F62: ='Wage Index Calculation'!I63 -> 513.94186
C63: General Inpatient Care | E63: 656 | F63: ='Wage Index Calculation'!J63 -> 1096.0879
A64: 37900 | B64: Marshall | C64: Routine Home Care | D64: Days 1-60 | E64: 651 | F64: ='Wage Index Calculation'!E61 -> 214.3495
B65: Peoria | C65: Routine Home Care | D65: Days 61+ | E65: 651 | F65: ='Wage Index Calculation'!F61 -> 168.9536
B66: Stark | C66: Service Intensity Add-On | E66: 055X or 56X | F66: ='Wage Index Calculation'!G61 -> 64.0172
B67: Tazewell | C67: Continuous Home Care | E67: 652 | F67: ='Wage Index Calculation'!H61 -> 1536.3884
B68: Woodford | C68: Inpatient Respite Care | E68: 655 | F68: ='Wage Index Calculation'!I61 -> 522.8999
C69: General Inpatient Care | E69: 656 | F69: ='Wage Index Calculation'!J61 -> 1116.0499
A70: 40420 | B70: Boone | C70: Routine Home Care | D70: Days 1-60 | E70: 651 | F70: ='Wage Index Calculation'!E6 -> 218.95651
B71: Winnebago | C71: Routine Home Care | D71: Days 61+ | E71: 651 | F71: ='Wage Index Calculation'!F6 -> 172.58485
C72: Service Intensity Add-On | E72: 055X or 56X | F72: ='Wage Index Calculation'!G6 -> 65.602096
C73: Continuous Home Care | E73: 652 | F73: ='Wage Index Calculation'!H6 -> 1574.4271
C74: Inpatient Respite Care | E74: 655 | F74: ='Wage Index Calculation'!I6 -> 533.22558
C75: General Inpatient Care | E75: 656 | F75: ='Wage Index Calculation'!J6 -> 1139.0596
A76: 41180 | B76: Bond | C76: Routine Home Care | D76: Days 1-60 | E76: 651 | F76: ='Wage Index Calculation'!E5 -> 227.07217
B77: Calhoun | C77: Routine Home Care | D77: Days 61+ | E77: 651 | F77: ='Wage Index Calculation'!F5 -> 178.98162
B78: Clinton | C78: Service Intensity Add-On | E78: 055X or 56X | F78: ='Wage Index Calculation'!G5 -> 68.394032
B79: Jersey | C79: Continuous Home Care | E79: 652 | F79: ='Wage Index Calculation'!H5 -> 1641.4357
B80: Macoupin | C80: Inpatient Respite Care | E80: 655 | F80: ='Wage Index Calculation'!I5 -> 551.41519
B81: Madison | C81: General Inpatient Care | E81: 656 | F81: ='Wage Index Calculation'!J5 -> 1179.5932
B82: Monroe
B83: St. Clair
A84: 44100 | B84: Menard | C84: Routine Home Care | D84: Days 1-60 | E84: 651 | F84: ='Wage Index Calculation'!E67 -> 225.01274
B85: Sangamon | C85: Routine Home Care | D85: Days 61+ | E85: 651 | F85: ='Wage Index Calculation'!F67 -> 177.35838
C86: Service Intensity Add-On | E86: 055X or 56X | F86: ='Wage Index Calculation'!G67 -> 67.685552
C87: Continuous Home Care | E87: 652 | F87: ='Wage Index Calculation'!H67 -> 1624.4316
C88: Inpatient Respite Care | E88: 655 | F88: ='Wage Index Calculation'!I67 -> 546.79941
C89: General Inpatient Care | E89: 656 | F89: ='Wage Index Calculation'!J67 -> 1169.3074
A90: 99914 | B90: Rural Areas | C90: Routine Home Care | D90: Days 1-60 | E90: 651 | F90: ='Wage Index Calculation'!E3 -> 211.95447
B91: (All Hospices | C91: Routine Home Care | D91: Days 61+ | E91: 651 | F91: ='Wage Index Calculation'!F3 -> 167.06583
B92: not listed in a | C92: Service Intensity Add-On | E92: 055X or 56X | F92: ='Wage Index Calculation'!G3 -> 63.193264
B93: CBSA above) | C93: Continuous Home Care | E93: 652 | F93: ='Wage Index Calculation'!H3 -> 1516.6133
C94: Inpatient Respite Care | E94: 655 | F94: ='Wage Index Calculation'!I3 -> 517.53191
C95: General Inpatient Care | E95: 656 | F95: ='Wage Index Calculation'!J3 -> 1104.0879
A97: Revenue Code | C97: Wage Component Subject to Index | D97: Non-weighted Amount
A98: 0651 (Routine Home Care Days 1-60) | C98: 152.55 | D98: 78.58
A99: 0651 (Routine Home Care Days 61+) | C99: 120.24 | D99: 61.94
A100: 055X or 056X (Service Intensity Add-On) | C100: 52.48 | D100: 17.31
A101: 0652 (Continuous Home Care) | C101: 1259.56 | D101: 415.38
A102: 0655 (Inpatient Respite Care) | C102: 341.91 | D102: 218.6
...

Sheet Wage Index Calculation
A1: Federal FY 2026 Revised Hospice Rates for 10/01/25 – 09/30/26 Wage Index Values for All Illinois Counties | G1: Do not Publish. To update pricing, enter the wage index associated with the Illinois County into column D. Update the the FFY hospice rates shown by revenue code in row 105.
A2: Illinois County | B2: FFY 2026 CBSA Code | D2: Wage Index | E2: =A107 -> 0651 (Routine Home Care Days 1-60) | F2: =A108 -> 0651 (Routine Home Care Days 61+) | G2: =A109 -> 055X or 056X (Service Intensity Add-On) | H2: =A110 -> 0652 (Continuous Home Care) | I2: =A111 -> 0655 (Inpatient Respite Care) | J2: =A112 -> 0656 (General Inpatient Care)
A3: Adams | B3: 99914 | D3: 0.8743 | E3: =($C$107*D3)+$D$107 -> 211.95447 | F3: =($C$108*$D3)+$D$108 -> 167.06583 | G3: =($C$109*$D3)+$D$109 -> 63.193264 | H3: =($C$110*$D3)+$D$110 -> 1516.6133 | I3: =($C$111*$D3)+$D$111 -> 517.53191 | J3: =($C$112*$D3)+$D$112 -> 1104.0879
A4: Alexander | B4: 16020 | D4: 0.8 | E4: =($C$107*D4)+$D$107 -> 200.62 | F4: =($C$108*$D4)+$D$108 -> 158.132 | G4: =($C$109*$D4)+$D$109 -> 59.294 | H4: =($C$110*$D4)+$D$110 -> 1423.028 | I4: =($C$111*$D4)+$D$111 -> 492.128 | J4: =($C$112*$D4)+$D$112 -> 1047.478
A5: Bond | B5: 41180 | D5: 0.9734 | E5: =($C$107*D5)+$D$107 -> 227.07217 | F5: =($C$108*$D5)+$D$108 -> 178.98162 | G5: =($C$109*$D5)+$D$109 -> 68.394032 | H5: =($C$110*$D5)+$D$110 -> 1641.4357 | I5: =($C$111*$D5)+$D$111 -> 551.41519 | J5: =($C$112*$D5)+$D$112 -> 1179.5932
A6: Boone | B6: 40420 | D6: 0.9202 | E6: =($C$107*D6)+$D$107 -> 218.95651 | F6: =($C$108*$D6)+$D$108 -> 172.58485 | G6: =($C$109*$D6)+$D$109 -> 65.602096 | H6: =($C$110*$D6)+$D$110 -> 1574.4271 | I6: =($C$111*$D6)+$D$111 -> 533.22558 | J6: =($C$112*$D6)+$D$112 -> 1139.0596
A7: Brown | B7: 99914 | D7: 0.8743 | E7: =($C$107*D7)+$D$107 -> 211.95447 | F7: =($C$108*$D7)+$D$108 -> 167.06583 | G7: =($C$109*$D7)+$D$109 -> 63.193264 | H7: =($C$110*$D7)+$D$110 -> 1516.6133 | I7: =($C$111*$D7)+$D$111 -> 517.53191 | J7: =($C$112*$D7)+$D$112 -> 1104.0879
A8: Bureau | B8: 99914 | D8: 0.8743 | E8: =($C$107*D8)+$D$107 -> 211.95447 | F8: =($C$108*$D8)+$D$108 -> 167.06583 | G8: =($C$109*$D8)+$D$109 -> 63.193264 | H8: =($C$110*$D8)+$D$110 -> 1516.6133 | I8: =($C$111*$D8)+$D$111 -> 517.53191 | J8: =($C$112*$D8)+$D$112 -> 1104.0879
A9: Calhoun | B9: 41180 | D9: 0.9734 | E9: =($C$107*D9)+$D$107 -> 227.07217 | F9: =($C$108*$D9)+$D$108 -> 178.98162 | G9: =($C$109*$D9)+$D$109 -> 68.394032 | H9: =($C$110*$D9)+$D$110 -> 1641.4357 | I9: =($C$111*$D9)+$D$111 -> 551.41519 | J9: =($C$112*$D9)+$D$112 -> 1179.5932
A10: Carroll | B10: 99914 | D10: 0.8743 | E10: =($C$107*D10)+$D$107 -> 211.95447 | F10: =($C$108*$D10)+$D$108 -> 167.06583 | G10: =($C$109*$D10)+$D$109 -> 63.193264 | H10: =($C$110*$D10)+$D$110 -> 1516.6133 | I10: =($C$111*$D10)+$D$111 -> 517.53191 | J10: =($C$112*$D10)+$D$112 -> 1104.0879
A11: Cass | B11: 99914 | D11: 0.8743 | E11: =($C$107*D11)+$D$107 -> 211.95447 | F11: =($C$108*$D11)+$D$108 -> 167.06583 | G11: =($C$109*$D11)+$D$109 -> 63.193264 | H11: =($C$110*$D11)+$D$110 -> 1516.6133 | I11: =($C$111*$D11)+$D$111 -> 517.53191 | J11: =($C$112*$D11)+$D$112 -> 1104.0879
A12: Champaign | B12: 16580 | D12: 0.8719 | E12: =($C$107*D12)+$D$107 -> 211.58835 | F12: =($C$108*$D12)+$D$108 -> 166.77726 | G12: =($C$109*$D12)+$D$109 -> 63.067312 | H12: =($C$110*$D12)+$D$110 -> 1513.5904 | I12: =($C$111*$D12)+$D$111 -> 516.71133 | J12: =($C$112*$D12)+$D$112 -> 1102.2593
A13: Christian | B13: 99914 | D13: 0.8743 | E13: =($C$107*D13)+$D$107 -> 211.95447 | F13: =($C$108*$D13)+$D$108 -> 167.06583 | G13: =($C$109*$D13)+$D$109 -> 63.193264 | H13: =($C$110*$D13)+$D$110 -> 1516.6133 | I13: =($C$111*$D13)+$D$111 -> 517.53191 | J13: =($C$112*$D13)+$D$112 -> 1104.0879
A14: Clark | B14: 99914 | D14: 0.8743 | E14: =($C$107*D14)+$D$107 -> 211.95447 | F14: =($C$108*$D14)+$D$108 -> 167.06583 | G14: =($C$109*$D14)+$D$109 -> 63.193264 | H14: =($C$110*$D14)+$D$110 -> 1516.6133 | I14: =($C$111*$D14)+$D$111 -> 517.53191 | J14: =($C$112*$D14)+$D$112 -> 1104.0879
... A104: Woodford | B104: 37900 | D104: 0.89 | E104: =($C$107*D104)+$D$107 -> 214.3495 | F104: =($C$108*$D104)+$D$108 -> 168.9536 | G104: =($C$109*$D104)+$D$109 -> 64.0172 | H104: =($C$110*$D104)+$D$110 -> 1536.3884 | I104: =($C$111*$D104)+$D$111 -> 522.8999 | J104: =($C$112*$D104)+$D$112 -> 1116.0499
A105: Calculation of FFY 2026 Hospice Care Rates Effective 10/01/25 – 09/30/26
A106: Revenue Code | C106: Wage Component Subject to Index | D106: Non-weighted Amount
A107: 0651 (Routine Home Care Days 1-60) | C107: 152.55 | D107: 78.58
A108: 0651 (Routine Home Care Days 61+) | C108: 120.24 | D108: 61.94
A109: 055X or 056X (Service Intensity Add-On) | C109: 52.48 | D109: 17.31
A110: 0652 (Continuous Home Care) | C110: 1259.56 | D110: 415.38
A111: 0655 (Inpatient Respite Care) | C111: 341.91 | D111: 218.6
A112: 0656 (General Inpatient Care) | C112: 761.91 | D112: 437.95
A113: The payment amounts for routine home care, inpatient respite care, and general inpatient care are calculated as follows: The CBSA Wage Index multiplied by the Wage Component equals the Base Rate. The Base Rate plus the Non-weighted Amount equals the Daily Rate. The payment amount for service intensity add-on is calculated as follows: The CBSA Wage Index multiplied by the Wage Component equals the Base Rate. The Base Rate plus the Non-weighted Amount equals the Hourly Rate. The Hourly Rate divided by four equals the Quarter-Hour Rate. The payment amount for continuous home care is calculated as follows: The CBSA Wage Index multiplied by the Wage Component equals the Base Rate. The Base Rate plus the Non-weighted Amount equals the Daily Rate. The Daily Rate divided by 96 quarter-hour units equals the Quarter-Hour Rate. Examples
A114: Routine Home Care (0651) Days 1-60 | C114: Routine Home Care (0651) Days 61+
A115: CBSA Code 44100 has an associated Wage Index of 0.9599 | C115: CBSA Code 44100 has an associated Wage Index of 0.9599.
A117: 0.9599 multiplied by the Wage Component of $152.55 equals a Base Rate of $146.43. | C117: 0.9599 multiplied by the Wage Component of $120.24 equals a Base Rate of $115.42.
A119: The Base Rate of $146.43 plus the Non- weighted Amount of $78.58 equals the Daily Rate of $225.01. | C119: The Base Rate of $115.42 plus the Non- weighted Amount of $61.94 equals the Daily Rate of $177.36.
A121: Service Intensity Add-On (055X or 056X) | C121: Continuous Home Care (0652)
A122: CBSA Code 44100 has an associated Wage Index of 0.9599. | C122: CBSA Code 44100 has an associated Wage Index of 0.9599.
A124: 0.9599 multiplied by the Wage Component of $52.48 equals the Base Rate of $50.38. | C124: 0.9599 multiplied by the Wage Component of $1,259.56. equals the Base Rate of $1209.05
A126: The Base Rate of $50.38 plus the Non- weighted Amount of $17.31 equals the Hourly Rate of $67.69. | C126: The Base Rate of $1,209.05 plus the Non- weighted Amount of $415.38 equals the Daily Rate of $1,624.43.
A128: The Hourly Rate of $67.69 divided by four equals $16.92 per Quarter-Hour unit. | C128: The Daily Rate of $1,624.43 divided by 96 Quarter-Hour units in a day equals $16.92 per Quarter-Hour unit.
A129: Inpatient Respite Care (0655) | C129: General Inpatient Care (0656)
A130: CBSA Code 44100 has an associated Wage Index of 0.9599. | C130: CBSA Code 44100 has an associated Wage Index of 0.9599.
A132: 0.9599 multiplied by the Wage Component of $341.91 equals a Base Rate of $328.20. | C132: 0.9599 multiplied by the Wage Component of $761.91 equals the Base Rate of $731.36.
A134: The Base Rate of $328.20 plus the Non-weighted Amount of $218.60 equals the Daily Rate of $546.80. | C134: The Base Rate of $731.36 plus the Non-weighted Amount of $437.95 equals the Daily Rate of $1,169.31.
